BEGIN:VCALENDAR
VERSION:2.0
PRODID:-//ChamberMaster//Event Calendar 2.0//EN
METHOD:PUBLISH
X-PUBLISHED-TTL:P3D
REFRESH-INTERVAL:P3D
CALSCALE:GREGORIAN
BEGIN:VEVENT
DTSTART:20250415T190000Z
DTEND:20250415T200000Z
X-MICROSOFT-CDO-ALLDAYEVENT:FALSE
SUMMARY:SVBC (Silicon Valley Business Connections)
DESCRIPTION:The Silicon Valley Business Connections (SVBC) Referral Group is a dynamic community where our expertise\, referrals\, and generosity fuel collective growth and professional success. We meet weekly to exchange referrals and build an understanding of each business.\n\n\n\nFeatured Speaker\n\nJay Iyer\, Consulting Partner\, ERA Group\n\n\n\nJay Iyer specializes in assisting key decision-makers as a trusted advisor\, dedicated to analyzing and implementing solutions to unlock trapped cash flows from existing expense areas.\n\n\n\nCollaborating with a global team\, Jay can channel ERA expertise to bring to life those essential institutional initiatives that may have been awaiting funding for far too long.\n\n\n\nWith 28+ years of service in technology\, manufacturing\, and financial services sectors and the most recent 17 years in several trusted partnership roles alongside C-suite key decision makers\, Jay can quickly become your invaluable business partner.\n\n\n\nJay brings an outstanding work ethic centered on client's interests. He always strives to deliver results with an unwavering focus on innovation and execution with a positive attitude. Jay is a servant at heart.
X-ALT-DESC;FMTTYPE=text/html:The <strong>Silicon Valley Business Connections (SVBC) Referral Group</strong> is a dynamic community where our expertise\, referrals\, and generosity fuel collective growth and professional success. We meet weekly to exchange referrals and build an understanding of each business.<br />\n<br />\n<strong>Featured Speaker<br />\nJay Iyer\, Consulting Partner\, <a href="https://usc.eragroup.com/find-a-consultant/jay-iyer/">ERA Group</a></strong><br />\n<br />\nJay Iyer specializes in assisting key decision-makers as a trusted advisor\, dedicated to analyzing and implementing solutions to unlock trapped cash flows from existing expense areas.<br />\n<br />\nCollaborating with a global team\, Jay can channel ERA expertise to bring to life those essential institutional initiatives that may have been awaiting funding for far too long.<br />\n<br />\nWith 28+ years of service in technology\, manufacturing\, and financial services sectors and the most recent 17 years in several trusted partnership roles alongside C-suite key decision makers\, Jay can quickly become your invaluable business partner.<br />\n<br />\nJay brings an outstanding work ethic centered on client&rsquo\;s interests. He always strives to deliver results with an unwavering focus on innovation and execution with a positive attitude. Jay is a servant at heart.
LOCATION:Silicon Valley Central Chamber 3550 Scott Blvd.\, Bld. 54\, Santa Clara\, CA 95054-3124* The meeting is also available through Zoom\, however\, we encourage you to attend in person whenever possible to build greater rapport with other members. *Location may be on-site at a member's business from time to time. Contact the team leaders to ensure you know where the meetings will be.
UID:e.3535.7533
SEQUENCE:3
DTSTAMP:20260424T194342Z
URL:https://members.svcentralchamber.com/events/details/svbc-silicon-valley-business-connections-04-15-2025-7533
END:VEVENT

END:VCALENDAR
