BEGIN:VCALENDAR
VERSION:2.0
PRODID:-//ChamberMaster//Event Calendar 2.0//EN
METHOD:PUBLISH
X-PUBLISHED-TTL:P3D
REFRESH-INTERVAL:P3D
CALSCALE:GREGORIAN
BEGIN:VEVENT
DTSTART:20100326T000000Z
DTEND:20100326T020000Z
X-MICROSOFT-CDO-ALLDAYEVENT:FALSE
SUMMARY:SVYP & Yippee! Fusion/Spring Cleaning
DESCRIPTION:
X-ALT-DESC;FMTTYPE=text/html:
LOCATION:460 East Middlefield Road \, Mountain View\, CA 94043
UID:e.3535.46
SEQUENCE:3
DTSTAMP:20260422T085951Z
URL:https://members.svcentralchamber.com/events/details/svyp-yippee-fusion-spring-cleaning-03-25-2010-46
END:VEVENT

END:VCALENDAR
