BEGIN:VCALENDAR
VERSION:2.0
PRODID:-//ChamberMaster//Event Calendar 2.0//EN
METHOD:PUBLISH
X-PUBLISHED-TTL:P3D
REFRESH-INTERVAL:P3D
CALSCALE:GREGORIAN
BEGIN:VEVENT
DTSTART:20220419T220000Z
DTEND:20220419T233000Z
X-MICROSOFT-CDO-ALLDAYEVENT:FALSE
SUMMARY:WDC - Workforce Development Committee 2022
DESCRIPTION:If you are growing\, or have gown? hiring\, or have hired\, or just have dreams of future success\, workforce development is on the top of your list. Talent acquisition is the most challenging part of doing business in the valley\, with a close second being knowing how to retain the talent.
X-ALT-DESC;FMTTYPE=text/html:<span style="font-size:14px\;"><span style="color: rgb(34\, 34\, 34)\; font-family: &quot\;Fira Sans&quot\;\, sans-serif\;">If you are growing\, or have gown? hiring\, or have hired\, or just have dreams of future success\, workforce development is on the top of your list. Talent acquisition is the most challenging part of doing business in the valley\, with a close second being knowing how to retain the talent.</span></span>
LOCATION:Virtual
UID:e.3535.3618
SEQUENCE:3
DTSTAMP:20260420T160503Z
URL:https://members.svcentralchamber.com/events/details/wdc-workforce-development-committee-2022-04-19-2022-3618
END:VEVENT

END:VCALENDAR
