BEGIN:VCALENDAR
VERSION:2.0
PRODID:-//ChamberMaster//Event Calendar 2.0//EN
METHOD:PUBLISH
X-PUBLISHED-TTL:P3D
REFRESH-INTERVAL:P3D
CALSCALE:GREGORIAN
BEGIN:VEVENT
DTSTART:20191009T013000Z
DTEND:20191009T023000Z
X-MICROSOFT-CDO-ALLDAYEVENT:FALSE
SUMMARY:What's Hiding In Your Home: Hormone Disruptors\, Heavy Metals\, Hidden Toxins
DESCRIPTION:Your home should be a safe space. Free of chemicals and toxins. We hear all of the time about eating organic\, but what about your home cleaners\, detergents\, skin care\, deodorant\, cosmetics\, and water?!? For example\, the air in the average American home is said to be over 2x more toxic than the air outside!! Plus\, over 95% of the lipsticks on the market in 2013 contained lead!!! How crazy is that!?!\n\n\n\nOn Tuesday\, October 8 we will be talking about\n\n	the hidden and not so hidden chemicals around your home\, \n	providing simple & doable solutions you can implement right away\, &\n	including samples of clean products\, & raffles items to take home!\n\nRSVP to save your spot today!
X-ALT-DESC;FMTTYPE=text/html:<span style="font-size:14px">Your home should be a safe space. Free of chemicals and toxins. We hear all of the time about eating organic\, but what about your home cleaners\, detergents\, skin care\, deodorant\, cosmetics\, and water?!?&nbsp\;For example\, the air in the average American home is said to be over 2x more toxic than the air outside!! Plus\,&nbsp\;over 95% of the lipsticks on the market in 2013 contained lead!!!&nbsp\;How crazy is that!?!<br />\n<br />\nOn Tuesday\, October 8 we will be talking about</span>\n<ul>\n	<li><span style="font-size:14px">the hidden and not so hidden chemicals around your home\,&nbsp\;</span></li>\n	<li><span style="font-size:14px">providing simple &amp\; doable solutions you can implement right away\, &amp\;</span></li>\n	<li><span style="font-size:14px">including samples of clean products\, &amp\; raffles items to take home!</span></li>\n</ul>\n<a href="http://bit.ly/HiddenToxinsPlatinum?"><span style="font-size:14px">RSVP to save your spot today!</span></a>
LOCATION:5145 Stevens Creek Blvd. #130 Santa Clara\, CA 95051
UID:e.3535.2040
SEQUENCE:3
DTSTAMP:20260419T130218Z
URL:https://members.svcentralchamber.com/events/details/what-s-hiding-in-your-home-hormone-disruptors-heavy-metals-hidden-toxins-2040
END:VEVENT

END:VCALENDAR
