BEGIN:VCALENDAR
VERSION:2.0
PRODID:-//ChamberMaster//Event Calendar 2.0//EN
METHOD:PUBLISH
X-PUBLISHED-TTL:P3D
REFRESH-INTERVAL:P3D
CALSCALE:GREGORIAN
BEGIN:VEVENT
DTSTART:20220407T010000Z
DTEND:20220407T023000Z
X-MICROSOFT-CDO-ALLDAYEVENT:FALSE
SUMMARY:WIB Leadership Group 04.06.22
DESCRIPTION:The Women in Business Leadership Group hosts informative\, inspirational events on the first Wednesday of even-numbered months at 6pm at the Triton Museum of Art.\n\n\n\nOur April guest speaker will be Doris Pinkering presenting:\n\n\n\n The Return to Life   Live\n\n\n\nHow to re-engage in person after being in a little square box for 2 years. \n\nJoin Doris Pickering as she shares great strategies on bringing your best\n\nself forward as we enjoy reconnecting with people face to face.\n\n \n\nDoris Pickering is an engaging\, energetic and charismatic entrepreneur who brings her sought after public speaking and presentation training programs to ambitious business owners and professionals who are ready to improve their public speaking skills.
X-ALT-DESC;FMTTYPE=text/html:<font color="#000000"><span style="font-size: 16px\;">The Women in Business Leadership Group hosts informative\, inspirational events on the first Wednesday of even-numbered months at 6pm at the Triton Museum of Art.</span></font><br />\n<br />\n<strong><font color="#000000"><span style="font-size: 16px\;">Our&nbsp\;April guest speaker will be Doris Pinkering presenting:<br />\n<br />\n<span style="font-size:14px\;">&nbsp\;</span></span></font></strong><span style="font-size:14px\;"><span style="font-family:comic sans ms\;"><strong>The Return to Life &ndash\; Live</strong></span></span><br />\n<br />\n<span style="font-family:arial\;"><span style="font-size:11.0pt\;">How to re-engage in person after being in a little square box for 2 years. </span><br />\n<span style="font-size:11.0pt\;">Join Doris Pickering as she shares great strategies on bringing your best</span><br />\n<span style="font-size:11.0pt\;">self forward as we enjoy reconnecting with people face to face.</span><br />\n&nbsp\;<br />\n<span style="font-size:11.0pt\;">Doris Pickering is an engaging\, energetic and charismatic entrepreneur who brings her sought after public speaking and presentation training programs to ambitious business owners and professionals who are ready to improve their public speaking skills.</span></span><br />\n<br />\n<br />\n&nbsp\;
LOCATION:Triton Museum of Art
UID:e.3535.3649
SEQUENCE:3
DTSTAMP:20260423T162139Z
URL:https://members.svcentralchamber.com/events/details/wib-leadership-group-04-06-22-3649
END:VEVENT

END:VCALENDAR
