BEGIN:VCALENDAR
VERSION:2.0
PRODID:-//ChamberMaster//Event Calendar 2.0//EN
METHOD:PUBLISH
X-PUBLISHED-TTL:P3D
REFRESH-INTERVAL:P3D
CALSCALE:GREGORIAN
BEGIN:VEVENT
DTSTART:20181101T230000Z
DTEND:20181102T010000Z
X-MICROSOFT-CDO-ALLDAYEVENT:FALSE
SUMMARY:Workplace Wellness Workshop & Social
DESCRIPTION:POWER-UP your life.\n\nUNLOCK health benefits.\n\nUNCOVER a healthier you.\n\nCome enjoy a different kind of social. Taste some goodies and experience some live demos of acupuncture\, with friends new and old\, by 'Numo Acupuncture' & 'Happy 2 Be Healthy'.\n\n\n\nYou will learn the secrets of more energy and better performance at the workplace!\n\nRSVP as Seating is Limited.\n\nRegister
X-ALT-DESC;FMTTYPE=text/html:<p><br />\nPOWER-UP your life.<br />\nUNLOCK health benefits.<br />\nUNCOVER a healthier you.</p>\n\n<p>Come enjoy a different kind of social. Taste some goodies and experience some live demos of acupuncture\, with friends new and old\, by &#39\;Numo Acupuncture&#39\; &amp\; &#39\;Happy 2 Be Healthy&#39\;.</p>\n\n<p><br />\nYou will learn the secrets of more energy and better performance at the workplace!<br />\nRSVP as Seating is Limited.</p>\n\n<p><a href="https://www.eventbrite.com/e/workplace-wellness-workshop-social-tickets-50766459848" target="_blank">Register</a>&nbsp\;</p>\n
LOCATION:Santa Clara Chamber of Commerce 1850 Warburton Avenue\, Santa Clara\, CA 95050
UID:e.3535.1680
SEQUENCE:3
DTSTAMP:20260420T080711Z
URL:https://members.svcentralchamber.com/events/details/workplace-wellness-workshop-social-11-01-2018-1680
END:VEVENT

END:VCALENDAR
